BEGIN:VCALENDAR
VERSION:2.0
PRODID:-//https://www.havasurealtors.com//NONSGML kigkonsult.se iCalcreator 2.41.71//
CALSCALE:GREGORIAN
METHOD:PUBLISH
UID:62623939-6433-4666-b234-303431623039
X-WR-CALNAME:JCal Pro Calendar
X-WR-CALDESC:Your online events calendar
X-WR-TIMEZONE:America/Phoenix
BEGIN:VTIMEZONE
TZID:America/Phoenix
BEGIN:STANDARD
TZNAME:MST
DTSTART:20240721T072547
TZOFFSETFROM:+0000
TZOFFSETTO:-0700
END:STANDARD
END:VTIMEZONE
BEGIN:VEVENT
UID:20250315T160000UTC-6636CKIkVc@https://havasurealtors.com/
DTSTAMP:20260422T072547Z
CATEGORIES:Rentals
DTSTART;TZID=America/Phoenix:20250315T000000
DTEND;TZID=America/Phoenix:20250315T235959
SUMMARY:Rentals (Neadle)
URL:https://www.havasurealtors.com/todays-calendar-calendar-view/258-rental
 s/4750-rentals-neadle.html
END:VEVENT
END:VCALENDAR
