BEGIN:VCALENDAR
VERSION:2.0
PRODID:-//https://www.havasurealtors.com//NONSGML kigkonsult.se iCalcreator 2.41.71//
CALSCALE:GREGORIAN
METHOD:PUBLISH
UID:61383064-3538-4634-b930-306234393532
X-WR-CALNAME:JCal Pro Calendar
X-WR-CALDESC:Your online events calendar
X-WR-TIMEZONE:America/Phoenix
BEGIN:VTIMEZONE
TZID:America/Phoenix
BEGIN:STANDARD
TZNAME:MST
DTSTART:20240721T002356
TZOFFSETFROM:+0000
TZOFFSETTO:-0700
END:STANDARD
END:VTIMEZONE
BEGIN:VEVENT
UID:20260213T080000UTC-0610vmCa0a@https://havasurealtors.com/
DTSTAMP:20260422T002356Z
CATEGORIES:Rentals
DTSTART;TZID=America/Phoenix:20260213T080000
DTEND;TZID=America/Phoenix:20260213T235900
SUMMARY:(Rental) Standal
URL:https://www.havasurealtors.com/todays-calendar-calendar-view/258-rental
 s/5117-rental-standal.html
END:VEVENT
END:VCALENDAR
