BEGIN:VCALENDAR
VERSION:2.0
PRODID:-//https://www.havasurealtors.com//NONSGML kigkonsult.se iCalcreator 2.41.71//
CALSCALE:GREGORIAN
METHOD:PUBLISH
UID:38343939-6264-4065-a432-646632383230
X-WR-CALNAME:JCal Pro Calendar
X-WR-CALDESC:Your online events calendar
X-WR-TIMEZONE:America/Phoenix
BEGIN:VTIMEZONE
TZID:America/Phoenix
BEGIN:STANDARD
TZNAME:MST
DTSTART:20240720T085533
TZOFFSETFROM:+0000
TZOFFSETTO:-0700
END:STANDARD
END:VTIMEZONE
BEGIN:VEVENT
UID:20260411T100000UTC-4650Viv91i@https://havasurealtors.com/
DTSTAMP:20260421T085533Z
CATEGORIES:Rentals
DTSTART;TZID=America/Phoenix:20260411T000000
DTEND;TZID=America/Phoenix:20260411T235959
SUMMARY:Rental ( Leadership Lake Havasu)
URL:https://www.havasurealtors.com/todays-calendar-calendar-view/258-rental
 s/5133-rental-leadership-lake-havasu.html
END:VEVENT
END:VCALENDAR
