BEGIN:VCALENDAR
VERSION:2.0
PRODID:-//https://www.havasurealtors.com//NONSGML kigkonsult.se iCalcreator 2.41.71//
CALSCALE:GREGORIAN
METHOD:PUBLISH
UID:61366261-3830-4130-b137-383366613030
X-WR-CALNAME:JCal Pro Calendar
X-WR-CALDESC:Your online events calendar
X-WR-TIMEZONE:America/Phoenix
BEGIN:VTIMEZONE
TZID:America/Phoenix
BEGIN:STANDARD
TZNAME:MST
DTSTART:20240721T014810
TZOFFSETFROM:+0000
TZOFFSETTO:-0700
END:STANDARD
END:VTIMEZONE
BEGIN:VEVENT
UID:20250114T090000UTC-3165KXbBov@https://havasurealtors.com/
DTSTAMP:20260422T014810Z
CATEGORIES:Credited Classes
DTSTART;TZID=America/Phoenix:20250715T090000
DTEND;TZID=America/Phoenix:20250715T170000
SUMMARY:New Member Contract Class
URL:https://www.havasurealtors.com/todays-calendar-calendar-view/259-educat
 ion-classes/184-credited-classes-calendar-category/4474-new-member-contrac
 t-class.html
END:VEVENT
END:VCALENDAR
