BEGIN:VCALENDAR
VERSION:2.0
PRODID:-//https://www.havasurealtors.com//NONSGML kigkonsult.se iCalcreator 2.41.71//
CALSCALE:GREGORIAN
METHOD:PUBLISH
UID:36376331-3235-4530-b762-653634353661
X-WR-CALNAME:JCal Pro Calendar
X-WR-CALDESC:Your online events calendar
X-WR-TIMEZONE:America/Phoenix
BEGIN:VTIMEZONE
TZID:America/Phoenix
BEGIN:STANDARD
TZNAME:MST
DTSTART:20240718T234225
TZOFFSETFROM:+0000
TZOFFSETTO:-0700
END:STANDARD
END:VTIMEZONE
BEGIN:VEVENT
UID:20260108T090000UTC-7802vOEFuM@https://havasurealtors.com/
DTSTAMP:20260419T234225Z
CATEGORIES:Non-credited Classes
DTSTART;TZID=America/Phoenix:20261203T090000
DTEND;TZID=America/Phoenix:20261203T110000
SUMMARY:Flex MLS Training (New Member Requirement) ZOOM
URL:https://www.havasurealtors.com/todays-calendar-calendar-view/259-educat
 ion-classes/185-non-credited-classes-calendar-category/5110-flex-mls-train
 ing-new-member-requirement.html
END:VEVENT
END:VCALENDAR
