BEGIN:VCALENDAR
VERSION:2.0
PRODID:-//https://www.havasurealtors.com//NONSGML kigkonsult.se iCalcreator 2.41.71//
CALSCALE:GREGORIAN
METHOD:PUBLISH
UID:39663736-3361-4136-b132-643762323139
X-WR-CALNAME:JCal Pro Calendar
X-WR-CALDESC:Your online events calendar
X-WR-TIMEZONE:America/Phoenix
BEGIN:VTIMEZONE
TZID:America/Phoenix
BEGIN:STANDARD
TZNAME:MST
DTSTART:20240722T223004
TZOFFSETFROM:+0000
TZOFFSETTO:-0700
END:STANDARD
END:VTIMEZONE
BEGIN:VEVENT
UID:20240104T090000UTC-3992u3GUNM@https://havasurealtors.com/
DTSTAMP:20260423T223004Z
CATEGORIES:Orientation Classes
DTSTART;TZID=America/Phoenix:20240905T090000
DTEND;TZID=America/Phoenix:20240905T120000
SUMMARY:FlexMLS Training
URL:https://www.havasurealtors.com/todays-calendar-calendar-view/259-educat
 ion-classes/257-orientation-classes/4114-flex-mls-training.html
END:VEVENT
END:VCALENDAR
