BEGIN:VCALENDAR
VERSION:2.0
PRODID:-//https://www.havasurealtors.com//NONSGML kigkonsult.se iCalcreator 2.41.71//
CALSCALE:GREGORIAN
METHOD:PUBLISH
UID:35306265-3065-4466-b861-633462616237
X-WR-CALNAME:JCal Pro Calendar
X-WR-CALDESC:Your online events calendar
X-WR-TIMEZONE:America/Phoenix
BEGIN:VTIMEZONE
TZID:America/Phoenix
BEGIN:STANDARD
TZNAME:MST
DTSTART:20240721T154209
TZOFFSETFROM:+0000
TZOFFSETTO:-0700
END:STANDARD
END:VTIMEZONE
BEGIN:VEVENT
UID:20260107T080000UTC-0024jSCSuu@https://havasurealtors.com/
DTSTAMP:20260422T154209Z
CATEGORIES:Orientation Classes
DTSTART;TZID=America/Phoenix:20260902T080000
DTEND;TZID=America/Phoenix:20260902T120000
SUMMARY:New Member Orientation & Tour
URL:https://www.havasurealtors.com/todays-calendar-calendar-view/259-educat
 ion-classes/257-orientation-classes/5114-new-member-orientation-tour.html
END:VEVENT
END:VCALENDAR
