BEGIN:VCALENDAR
VERSION:2.0
PRODID:-//https://www.havasurealtors.com//NONSGML kigkonsult.se iCalcreator 2.41.71//
CALSCALE:GREGORIAN
METHOD:PUBLISH
UID:34656636-3865-4435-a337-653836333364
X-WR-CALNAME:JCal Pro Calendar
X-WR-CALDESC:Your online events calendar
X-WR-TIMEZONE:America/Phoenix
BEGIN:VTIMEZONE
TZID:America/Phoenix
BEGIN:STANDARD
TZNAME:MST
DTSTART:20240719T204459
TZOFFSETFROM:+0000
TZOFFSETTO:-0700
END:STANDARD
END:VTIMEZONE
BEGIN:VEVENT
UID:20241007T080000UTC-8326Sb2Vo7@https://havasurealtors.com/
DTSTAMP:20260420T204459Z
CATEGORIES:Board of Directors
DESCRIPTION:<p>Location: Harrah's Laughlin Beach Resort &amp\; Casino</p>
DTSTART;TZID=America/Phoenix:20241007T080000
DTEND;TZID=America/Phoenix:20241008T170000
SUMMARY:LHAR Leadership Retreat
URL:https://www.havasurealtors.com/todays-calendar-calendar-view/189-meetin
 gs-calendar-category/194-committee-meetings-calendar-cateogory/268-board-o
 f-directors/4143-lhar-leadership-retreat.html
X-ALT-DESC;FMTTYPE=TEXT/HTML:<p>Location: Harrah's Laughlin Beach Resort &a
 mp\; Casino</p>
END:VEVENT
BEGIN:VEVENT
UID:20240909T170000UTC-6251l2mK3p@https://havasurealtors.com/
DTSTAMP:20260420T204459Z
CATEGORIES:Rentals
DTSTART;TZID=America/Phoenix:20240909T170000
DTEND;TZID=America/Phoenix:20240909T190000
RRULE:FREQ=MONTHLY;COUNT=5;INTERVAL=1;BYDAY=MO;BYSETPOS=1
SUMMARY:Rental (Balloon Fest)
URL:https://www.havasurealtors.com/todays-calendar-calendar-view/258-rental
 s/4454-rental-balloon-fest.html
END:VEVENT
BEGIN:VEVENT
UID:20240103T201500UTC-0255VwHvGL@https://havasurealtors.com/
DTSTAMP:20260420T204459Z
CATEGORIES:MLS Tour Meetings
DTSTART;TZID=America/Phoenix:20241009T081500
DTEND;TZID=America/Phoenix:20241009T084500
SUMMARY:MLS Tour - North & Central Area
URL:https://www.havasurealtors.com/todays-calendar-calendar-view/189-meetin
 gs-calendar-category/193-mls-tour-meetings-calendar-category/4383-mls-tour
 -central-south-area.html
END:VEVENT
BEGIN:VEVENT
UID:20240110T080000UTC-9432waP1gc@https://havasurealtors.com/
DTSTAMP:20260420T204459Z
CATEGORIES:Committee Meetings
DTSTART;TZID=America/Phoenix:20241009T100000
DTEND;TZID=America/Phoenix:20241009T110000
SUMMARY:Executive Committee Meeting
URL:https://www.havasurealtors.com/todays-calendar-calendar-view/189-meetin
 gs-calendar-category/194-committee-meetings-calendar-cateogory/4007-execut
 ive-committee-meeting.html
END:VEVENT
BEGIN:VEVENT
UID:20241012T080000UTC-7366pIXFP3@https://havasurealtors.com/
DTSTAMP:20260420T204459Z
CATEGORIES:Rentals
DTSTART;TZID=America/Phoenix:20241012T000000
DTEND;TZID=America/Phoenix:20241012T235959
SUMMARY:Rental (Villarreal)
URL:https://www.havasurealtors.com/todays-calendar-calendar-view/258-rental
 s/4450-rental-villarreal.html
END:VEVENT
END:VCALENDAR
