BEGIN:VCALENDAR
VERSION:2.0
PRODID:-//https://www.havasurealtors.com//NONSGML kigkonsult.se iCalcreator 2.41.71//
CALSCALE:GREGORIAN
METHOD:PUBLISH
UID:37353139-3739-4439-a562-633465626339
X-WR-CALNAME:JCal Pro Calendar
X-WR-CALDESC:Your online events calendar
X-WR-TIMEZONE:America/Phoenix
BEGIN:VTIMEZONE
TZID:America/Phoenix
BEGIN:STANDARD
TZNAME:MST
DTSTART:20240722T123546
TZOFFSETFROM:+0000
TZOFFSETTO:-0700
END:STANDARD
END:VTIMEZONE
BEGIN:VEVENT
UID:20250115T081500UTC-4496S8U8Hw@https://havasurealtors.com/
DTSTAMP:20260423T123546Z
CATEGORIES:MLS Tour Meetings
DTSTART;TZID=America/Phoenix:20250115T081500
DTEND;TZID=America/Phoenix:20250115T084500
RRULE:FREQ=WEEKLY;UNTIL=20250409T070000Z;INTERVAL=2;BYDAY=WE
SUMMARY:MLS Tour - Central & South Area
URL:https://www.havasurealtors.com/todays-calendar-calendar-view/189-meetin
 gs-calendar-category/193-mls-tour-meetings-calendar-category/4640-mls-tour
 -central-south-area.html
END:VEVENT
BEGIN:VEVENT
UID:20250130T080000UTC-7667lozvtW@https://havasurealtors.com/
DTSTAMP:20260423T123546Z
CATEGORIES:Board of Directors
DTSTART;TZID=America/Phoenix:20250130T080000
DTEND;TZID=America/Phoenix:20250130T090000
SUMMARY:Board of Directors Meeting
URL:https://www.havasurealtors.com/todays-calendar-calendar-view/189-meetin
 gs-calendar-category/194-committee-meetings-calendar-cateogory/268-board-o
 f-directors/4751-board-of-directors-meeting.html
END:VEVENT
BEGIN:VEVENT
UID:20250201T080000UTC-4832EuKCC6@https://havasurealtors.com/
DTSTAMP:20260423T123546Z
CATEGORIES:Rentals
DTSTART;TZID=America/Phoenix:20250201T080000
DTEND;TZID=America/Phoenix:20250201T235900
SUMMARY:Rental (Perez)
URL:https://www.havasurealtors.com/todays-calendar-calendar-view/258-rental
 s/4331-rental-perez.html
END:VEVENT
END:VCALENDAR
