BEGIN:VCALENDAR
VERSION:2.0
PRODID:-//https://www.havasurealtors.com//NONSGML kigkonsult.se iCalcreator 2.41.71//
CALSCALE:GREGORIAN
METHOD:PUBLISH
UID:37663664-3264-4261-b831-613834376230
X-WR-CALNAME:JCal Pro Calendar
X-WR-CALDESC:Your online events calendar
X-WR-TIMEZONE:America/Phoenix
BEGIN:VTIMEZONE
TZID:America/Phoenix
BEGIN:STANDARD
TZNAME:MST
DTSTART:20240721T133632
TZOFFSETFROM:+0000
TZOFFSETTO:-0700
END:STANDARD
END:VTIMEZONE
BEGIN:VEVENT
UID:20260907T140000UTC-9337wvRN7N@https://havasurealtors.com/
DTSTAMP:20260422T133632Z
CATEGORIES:Holidays
DTSTART;TZID=America/Phoenix:20260907T000000
DTEND;TZID=America/Phoenix:20260907T235959
SUMMARY:Association Office Closed - Labor Day
URL:https://www.havasurealtors.com/todays-calendar-calendar-view/196-holida
 ys-calendar-category/5095-association-office-closed-labor-day.html
END:VEVENT
BEGIN:VEVENT
UID:20260113T090000UTC-3071ePRMOF@https://havasurealtors.com/
DTSTAMP:20260422T133632Z
CATEGORIES:Board of Directors
DTSTART;TZID=America/Phoenix:20260113T090000
DTEND;TZID=America/Phoenix:20260113T100000
RRULE:FREQ=MONTHLY;UNTIL=20261231T070000Z;INTERVAL=1;BYDAY=TU;BYSETPOS=2
SUMMARY:Executive Committee Meeting
URL:https://www.havasurealtors.com/todays-calendar-calendar-view/189-meetin
 gs-calendar-category/194-committee-meetings-calendar-cateogory/268-board-o
 f-directors/4987-executive-committee-meeting.html
END:VEVENT
BEGIN:VEVENT
UID:20260107T081500UTC-0584WaCREV@https://havasurealtors.com/
DTSTAMP:20260422T133632Z
CATEGORIES:MLS Tour Meetings
DTSTART;TZID=America/Phoenix:20260909T083000
DTEND;TZID=America/Phoenix:20260909T083000
SUMMARY:Wednesday Market Mixer
URL:https://www.havasurealtors.com/todays-calendar-calendar-view/189-meetin
 gs-calendar-category/193-mls-tour-meetings-calendar-category/4970-mls-tour
 -south-area.html
END:VEVENT
BEGIN:VEVENT
UID:20260910T083000UTC-0629zEK0B9@https://havasurealtors.com/
DTSTAMP:20260422T133632Z
CATEGORIES:Finance Committee
DTSTART;TZID=America/Phoenix:20260910T083000
DTEND;TZID=America/Phoenix:20260910T093000
SUMMARY:Finance Committee Meeting
URL:https://www.havasurealtors.com/todays-calendar-calendar-view/189-meetin
 gs-calendar-category/194-committee-meetings-calendar-cateogory/269-finance
 -committee/5337-finance-committee-meeting.html
END:VEVENT
BEGIN:VEVENT
UID:20260910T113000UTC-5530fKDKlm@https://havasurealtors.com/
DTSTAMP:20260422T133632Z
CATEGORIES:Meetings
DESCRIPTION:<ul>\n<li>Realty Safety Month - Self Defense Class (Lunch)</li>
 \n<li>Stephanie Barnes</li>\n</ul>\n<p>*Queens of Hearts - 50/50 Drawing</
 p>
DTSTART;TZID=America/Phoenix:20260910T113000
DTEND;TZID=America/Phoenix:20260910T130000
SUMMARY:WCR Meeting @ LHAR - Self Defense Class (Lunch)
URL:https://www.havasurealtors.com/todays-calendar-calendar-view/189-meetin
 gs-calendar-category/5129-wcr-meeting-lhar.html
X-ALT-DESC;FMTTYPE=TEXT/HTML:<ul>\n<li>Realty Safety Month - Self Defense C
 lass (Lunch)</li>\n<li>Stephanie Barnes</li>\n</ul>\n<p>*Queens of Hearts 
 - 50/50 Drawing</p>
END:VEVENT
BEGIN:VEVENT
UID:20251024T160000UTC-1991xdgBZc@https://havasurealtors.com/
DTSTAMP:20260422T133632Z
CATEGORIES:Rentals
DTSTART;TZID=America/Phoenix:20260911T160000
DTEND;TZID=America/Phoenix:20260913T235900
SUMMARY:Rental (Martinez)
URL:https://www.havasurealtors.com/todays-calendar-calendar-view/258-rental
 s/4749-rental-martinez.html
END:VEVENT
END:VCALENDAR
