BEGIN:VCALENDAR
VERSION:2.0
PRODID:-//https://www.havasurealtors.com//NONSGML kigkonsult.se iCalcreator 2.41.71//
CALSCALE:GREGORIAN
METHOD:PUBLISH
UID:62393132-3633-4435-b531-646233303764
X-WR-CALNAME:JCal Pro Calendar
X-WR-CALDESC:Your online events calendar
X-WR-TIMEZONE:America/Phoenix
BEGIN:VTIMEZONE
TZID:America/Phoenix
BEGIN:STANDARD
TZNAME:MST
DTSTART:20240722T222741
TZOFFSETFROM:+0000
TZOFFSETTO:-0700
END:STANDARD
END:VTIMEZONE
BEGIN:VEVENT
UID:20251024T160000UTC-1991xdgBZc@https://havasurealtors.com/
DTSTAMP:20260423T222741Z
CATEGORIES:Rentals
DTSTART;TZID=America/Phoenix:20260911T160000
DTEND;TZID=America/Phoenix:20260913T235900
SUMMARY:Rental (Martinez)
URL:https://www.havasurealtors.com/todays-calendar-calendar-view/258-rental
 s/4749-rental-martinez.html
END:VEVENT
BEGIN:VEVENT
UID:20260120T090000UTC-0829tEgKLU@https://havasurealtors.com/
DTSTAMP:20260423T222741Z
CATEGORIES:Board of Directors
DTSTART;TZID=America/Phoenix:20260120T090000
DTEND;TZID=America/Phoenix:20260120T100000
RRULE:FREQ=MONTHLY;UNTIL=20261231T070000Z;INTERVAL=1;BYDAY=TU;BYSETPOS=3
SUMMARY:Board of Directors Meeting
URL:https://www.havasurealtors.com/todays-calendar-calendar-view/189-meetin
 gs-calendar-category/194-committee-meetings-calendar-cateogory/268-board-o
 f-directors/4999-board-of-directors-meeting.html
END:VEVENT
BEGIN:VEVENT
UID:20250923T090000UTC-1113tswC3S@https://havasurealtors.com/
DTSTAMP:20260423T222741Z
CATEGORIES:Credited Classes
DTSTART;TZID=America/Phoenix:20260915T090000
DTEND;TZID=America/Phoenix:20260915T160000
SUMMARY:New Member Contract Class
URL:https://www.havasurealtors.com/todays-calendar-calendar-view/259-educat
 ion-classes/184-credited-classes-calendar-category/5093-new-member-contrac
 t-class.html
END:VEVENT
BEGIN:VEVENT
UID:20260107T081500UTC-0584WaCREV@https://havasurealtors.com/
DTSTAMP:20260423T222741Z
CATEGORIES:MLS Tour Meetings
DTSTART;TZID=America/Phoenix:20260107T083000
DTEND;TZID=America/Phoenix:20260107T083000
RRULE:FREQ=WEEKLY;UNTIL=20261230T070000Z;INTERVAL=3;BYDAY=WE
SUMMARY:Wednesday Market Mixer
URL:https://www.havasurealtors.com/todays-calendar-calendar-view/189-meetin
 gs-calendar-category/193-mls-tour-meetings-calendar-category/4935-mls-tour
 -south-area.html
END:VEVENT
BEGIN:VEVENT
UID:20260918T090000UTC-8752bE2X9C@https://havasurealtors.com/
DTSTAMP:20260423T222741Z
CATEGORIES:Public Meetings
DTSTART;TZID=America/Phoenix:20260918T090000
DTEND;TZID=America/Phoenix:20260918T110000
SUMMARY:Annual Membership Meeting
URL:https://www.havasurealtors.com/todays-calendar-calendar-view/189-meetin
 gs-calendar-category/190-public-meetings-calendar-category/5019-annual-mem
 bership-meeting.html
END:VEVENT
END:VCALENDAR
