BEGIN:VCALENDAR
VERSION:2.0
PRODID:-//https://www.havasurealtors.com//NONSGML kigkonsult.se iCalcreator 2.41.71//
CALSCALE:GREGORIAN
METHOD:PUBLISH
UID:33386639-6364-4362-b233-343733386262
X-WR-CALNAME:JCal Pro Calendar
X-WR-CALDESC:Your online events calendar
X-WR-TIMEZONE:America/Phoenix
BEGIN:VTIMEZONE
TZID:America/Phoenix
BEGIN:STANDARD
TZNAME:MST
DTSTART:20240723T105128
TZOFFSETFROM:+0000
TZOFFSETTO:-0700
END:STANDARD
END:VTIMEZONE
BEGIN:VEVENT
UID:20250605T090000UTC-8240AeuiUk@https://havasurealtors.com/
DTSTAMP:20260424T105128Z
CATEGORIES:Non-credited Classes
DTSTART;TZID=America/Phoenix:20260212T090000
DTEND;TZID=America/Phoenix:20260212T110000
RRULE:FREQ=MONTHLY;COUNT=12;INTERVAL=1;BYDAY=TH;BYSETPOS=1
SUMMARY:Flex MLS Training (New Member Requirement)(ZOOM)
URL:https://www.havasurealtors.com/todays-calendar-calendar-view/259-educat
 ion-classes/185-non-credited-classes-calendar-category/5338-flex-mls-train
 ing-new-member-requirement-zoom-2.html
END:VEVENT
BEGIN:VEVENT
UID:20270109T150000UTC-40976uCzId@https://havasurealtors.com/
DTSTAMP:20260424T105128Z
CATEGORIES:Rentals
DTSTART;TZID=America/Phoenix:20270109T000000
DTEND;TZID=America/Phoenix:20270109T235959
SUMMARY:Rental (Hernandez)
URL:https://www.havasurealtors.com/todays-calendar-calendar-view/258-rental
 s/5377-rental-hernandez.html
END:VEVENT
END:VCALENDAR
