BEGIN:VCALENDAR
VERSION:2.0
PRODID:-//https://www.havasurealtors.com//NONSGML kigkonsult.se iCalcreator 2.41.71//
CALSCALE:GREGORIAN
METHOD:PUBLISH
UID:34363831-3739-4231-b662-396138353239
X-WR-CALNAME:JCal Pro Calendar
X-WR-CALDESC:Your online events calendar
X-WR-TIMEZONE:America/Phoenix
BEGIN:VTIMEZONE
TZID:America/Phoenix
BEGIN:STANDARD
TZNAME:MST
DTSTART:20240718T231156
TZOFFSETFROM:+0000
TZOFFSETTO:-0700
END:STANDARD
END:VTIMEZONE
BEGIN:VEVENT
UID:20241213T080000UTC-7769vlemLT@https://havasurealtors.com/
DTSTAMP:20260419T231156Z
CATEGORIES:Events
DTSTART;TZID=America/Phoenix:20241213T000000
DTEND;TZID=America/Phoenix:20241213T235959
SUMMARY:Association Office Closed
URL:https://www.havasurealtors.com/upcoming-events-calendar-menu/187-public
 -events-calendar-category/4713-association-office-closed.html
END:VEVENT
END:VCALENDAR
